BEGIN:VCALENDAR
VERSION:2.0
PRODID:-//OmniMagnetCalendar//EN
BEGIN:VEVENT
DTSTAMP:20190625T195740Z
STATUS:CONFIRMED
UID:hcdc.clubs.harvard.edu2476
DTSTART:20230512T165004Z
DTEND:20350101T045508Z
LOCATION:
SUMMARY:WE'VE MOVED!
DESCRIPTION:Please update your bookmarks to https://harvard-dc.org, and come visit us to find out the great new features we have for you!
BEGIN:VALARM
TRIGGER:-PT15M
ACTION:DISPLAY
END:VALARM
TRANSP:OPAQUE
END:VEVENT
END:VCALENDAR
