BEGIN:VCALENDAR
VERSION:2.0
PRODID:-//OmniMagnetCalendar//EN
BEGIN:VEVENT
DTSTAMP:20190625T195740Z
STATUS:CONFIRMED
UID:hcdc.clubs.harvard.edu2472
DTSTART:20230501T223000Z
DTEND:20230502T003000Z
LOCATION:Hogan Lovells, 555 13th St NW, Washington, DC, 20004, United States,
SUMMARY:IN PERSON: The Puzzle of HIV Spikes
DESCRIPTION:Join the HCW, the MIT Club, and the Columbia Club as Mehran Kardar, the Francis Friedman Professor of Physics at MIT and former Junior Fellow at the Harvard Society of Fellows, discusses the evolution of HIV spike density and how researchers can use this
BEGIN:VALARM
TRIGGER:-PT15M
ACTION:DISPLAY
END:VALARM
TRANSP:OPAQUE
END:VEVENT
END:VCALENDAR
