BEGIN:VCALENDAR
VERSION:2.0
PRODID:-//OmniMagnetCalendar//EN
BEGIN:VEVENT
DTSTAMP:20190625T195740Z
STATUS:CONFIRMED
UID:hcdc.clubs.harvard.edu2461
DTSTART:20230501T203000Z
DTEND:20230501T213000Z
LOCATION:Virtual,
SUMMARY:VIRTUAL: Anyang: China's Ancient City of Kings at the Freer Gallery
DESCRIPTION:Join the Harvard Club for a docent-led tour of objects from the birthplace of Chinese archaeology at the Freer Gallery.
BEGIN:VALARM
TRIGGER:-PT15M
ACTION:DISPLAY
END:VALARM
TRANSP:OPAQUE
END:VEVENT
END:VCALENDAR
