BEGIN:VCALENDAR
VERSION:2.0
PRODID:-//OmniMagnetCalendar//EN
BEGIN:VEVENT
DTSTAMP:20190625T195740Z
STATUS:CONFIRMED
UID:hcdc.clubs.harvard.edu2441
DTSTART:20230404T223000Z
DTEND:20230405T013000Z
LOCATION:Clubhouse DC, 1070 Wisconsin Ave NW, Washington, DC, 20007, United States,
SUMMARY:IN PERSON: Public Service Award Reception
DESCRIPTION:Join HCW to honor David Evans, former Senior Admissions Officer for Harvard College.
BEGIN:VALARM
TRIGGER:-PT15M
ACTION:DISPLAY
END:VALARM
TRANSP:OPAQUE
END:VEVENT
END:VCALENDAR
