BEGIN:VCALENDAR
VERSION:2.0
PRODID:-//OmniMagnetCalendar//EN
BEGIN:VEVENT
DTSTAMP:20190625T195740Z
STATUS:CONFIRMED
UID:hcdc.clubs.harvard.edu2436
DTSTART:20230310T000000Z
DTEND:20230310T040000Z
LOCATION:601 F St NW, Washington, DC, 20004, United States,
SUMMARY:IN PERSON: Hockey Night with the Harvard Club
DESCRIPTION:Join HCW to watch the Washington Capitals take on the New Jersey Devils!
BEGIN:VALARM
TRIGGER:-PT15M
ACTION:DISPLAY
END:VALARM
TRANSP:OPAQUE
END:VEVENT
END:VCALENDAR
