BEGIN:VCALENDAR
VERSION:2.0
PRODID:-//OmniMagnetCalendar//EN
BEGIN:VEVENT
DTSTAMP:20190625T195740Z
STATUS:CONFIRMED
UID:hcdc.clubs.harvard.edu2435
DTSTART:20230306T233000Z
DTEND:20230307T003000Z
LOCATION:Virtual,
SUMMARY:VIRTUAL: Book Club: Discuss Kings of B'more with R. Eric Thomas
DESCRIPTION:Join author, playwright, and humorist R. Eric Thomas to discuss his coming-of-age novel Kings of B'more.
BEGIN:VALARM
TRIGGER:-PT15M
ACTION:DISPLAY
END:VALARM
TRANSP:OPAQUE
END:VEVENT
END:VCALENDAR
