BEGIN:VCALENDAR
VERSION:2.0
PRODID:-//OmniMagnetCalendar//EN
BEGIN:VEVENT
DTSTAMP:20190625T195740Z
STATUS:CONFIRMED
UID:hcdc.clubs.harvard.edu2434
DTSTART:20230228T233000Z
DTEND:20230301T013000Z
LOCATION:The Admiral, 1 Dupont Circle, Washington, DC, 20036,
SUMMARY:IN PERSON: Black Alumni Happy Hour
DESCRIPTION:Join HCW President Jeff Tignor '96 to celebrate Black History Month.
BEGIN:VALARM
TRIGGER:-PT15M
ACTION:DISPLAY
END:VALARM
TRANSP:OPAQUE
END:VEVENT
END:VCALENDAR
