BEGIN:VCALENDAR
VERSION:2.0
PRODID:-//OmniMagnetCalendar//EN
BEGIN:VEVENT
DTSTAMP:20190625T195740Z
STATUS:CONFIRMED
UID:hcdc.clubs.harvard.edu2432
DTSTART:20230223T000000Z
DTEND:20230223T020000Z
LOCATION:Virtual,
SUMMARY:VIRTUAL: Little Satchmo: Screening and Q&A with Filmmakers John Alexander '11 and JC Guest '11
DESCRIPTION:Join HCW for an exclusive screening and Q&A with the makers of the new award-winning documentary Little Satchmo, an intimate conversation with Sharon Preston-Folta, the secret daughter of jazz legend Louis Armstrong.
BEGIN:VALARM
TRIGGER:-PT15M
ACTION:DISPLAY
END:VALARM
TRANSP:OPAQUE
END:VEVENT
END:VCALENDAR
