BEGIN:VCALENDAR
VERSION:2.0
PRODID:-//OmniMagnetCalendar//EN
BEGIN:VEVENT
DTSTAMP:20190625T195740Z
STATUS:CONFIRMED
UID:hcdc.clubs.harvard.edu2430
DTSTART:20230212T163000Z
DTEND:20230212T193000Z
LOCATION:National Museum of African American History and Culture, 1400 Constitution Ave NW, Washington, DC, 20560,
SUMMARY:IN PERSON: SECOND CHANCE: NMAAHC & Sweet Home Café
DESCRIPTION:Due to huge demand for our first outing, we have secured MORE timed entry passes for the National Museum of African-American History and Culture!
BEGIN:VALARM
TRIGGER:-PT15M
ACTION:DISPLAY
END:VALARM
TRANSP:OPAQUE
END:VEVENT
END:VCALENDAR
