BEGIN:VCALENDAR
VERSION:2.0
PRODID:-//OmniMagnetCalendar//EN
BEGIN:VEVENT
DTSTAMP:20190625T195740Z
STATUS:CONFIRMED
UID:hcdc.clubs.harvard.edu2426
DTSTART:20230213T213000Z
DTEND:20230213T223000Z
LOCATION:Virtual,
SUMMARY:VIRTUAL: Lunar New Year Celebration at the Freer Gallery
DESCRIPTION:Join the Harvard Club for a docent-led tour of symbols and traditions of the Lunar New Year.
BEGIN:VALARM
TRIGGER:-PT15M
ACTION:DISPLAY
END:VALARM
TRANSP:OPAQUE
END:VEVENT
END:VCALENDAR
