BEGIN:VCALENDAR
VERSION:2.0
PRODID:-//OmniMagnetCalendar//EN
BEGIN:VEVENT
DTSTAMP:20190625T195740Z
STATUS:CONFIRMED
UID:hcdc.clubs.harvard.edu2416
DTSTART:20230111T000000Z
DTEND:20230111T010000Z
LOCATION:Virtual,
SUMMARY:VIRTUAL: Ambassador Chase Untermeyer '68 on the Rewards of Public Service
DESCRIPTION:Join the former ambassador to Qatar to discuss the benefits of a life serving others, and how to integrate public and civic service into your life in meaningful ways.
BEGIN:VALARM
TRIGGER:-PT15M
ACTION:DISPLAY
END:VALARM
TRANSP:OPAQUE
END:VEVENT
END:VCALENDAR
