BEGIN:VCALENDAR
VERSION:2.0
PRODID:-//OmniMagnetCalendar//EN
BEGIN:VEVENT
DTSTAMP:20190625T195740Z
STATUS:CONFIRMED
UID:hcdc.clubs.harvard.edu2413
DTSTART:20230403T230000Z
DTEND:20230404T010000Z
LOCATION:Clubhouse DC, 1070 Wisconsin Ave NW, Washington, DC, 20007, USA,
SUMMARY:IN PERSON: April Recent Grads Happy Hour
DESCRIPTION:Meet in Georgetown with fellow Recent Grads
BEGIN:VALARM
TRIGGER:-PT15M
ACTION:DISPLAY
END:VALARM
TRANSP:OPAQUE
END:VEVENT
END:VCALENDAR
