BEGIN:VCALENDAR
VERSION:2.0
PRODID:-//OmniMagnetCalendar//EN
BEGIN:VEVENT
DTSTAMP:20190625T195740Z
STATUS:CONFIRMED
UID:hcdc.clubs.harvard.edu2403
DTSTART:20221207T230000Z
DTEND:20221208T010000Z
LOCATION:Licht Cafe, 1520 U St NW, Washington, DC, 20009, USA,
SUMMARY:IN PERSON: December LGBTQ+ Mixer
DESCRIPTION:Join us at Licht Cafe on U St to mingle, meet new friends, and plan future events to strengthen the Harvard LGBTQ+ community!
BEGIN:VALARM
TRIGGER:-PT15M
ACTION:DISPLAY
END:VALARM
TRANSP:OPAQUE
END:VEVENT
END:VCALENDAR
