BEGIN:VCALENDAR
VERSION:2.0
PRODID:-//OmniMagnetCalendar//EN
BEGIN:VEVENT
DTSTAMP:20190625T195740Z
STATUS:CONFIRMED
UID:hcdc.clubs.harvard.edu2400
DTSTART:20221204T140000Z
DTEND:20221204T183000Z
LOCATION:Sugarloaf Mountain, 7901 Comus Rd, Dickerson, MD, 20842,
SUMMARY:IN PERSON: Sugarloaf Mountain Hike
DESCRIPTION:Join our fearless hike master Barbara Saffir for a challenging 6-mile hike in Maryland.
BEGIN:VALARM
TRIGGER:-PT15M
ACTION:DISPLAY
END:VALARM
TRANSP:OPAQUE
END:VEVENT
END:VCALENDAR
