BEGIN:VCALENDAR
VERSION:2.0
PRODID:-//OmniMagnetCalendar//EN
BEGIN:VEVENT
DTSTAMP:20190625T195740Z
STATUS:CONFIRMED
UID:hcdc.clubs.harvard.edu2397
DTSTART:20221204T224500Z
DTEND:20221204T003000Z
LOCATION:The National Zoo, 3001 Connecticut Ave NW, Washington, DC, 20008,
SUMMARY:IN PERSON: Zoo Lights Walk
DESCRIPTION:Join HCW at the National Zoo to enjoy the colorful glow of one of DC's beloved holiday traditions.
BEGIN:VALARM
TRIGGER:-PT15M
ACTION:DISPLAY
END:VALARM
TRANSP:OPAQUE
END:VEVENT
END:VCALENDAR
