BEGIN:VCALENDAR
VERSION:2.0
PRODID:-//OmniMagnetCalendar//EN
BEGIN:VEVENT
DTSTAMP:20190625T195740Z
STATUS:CONFIRMED
UID:hcdc.clubs.harvard.edu2396
DTSTART:20221120T163000Z
DTEND:20221120T210000Z
LOCATION:National Museum of the American Indian, 3rd St SW, Washington, DC,
SUMMARY:IN PERSON: National Museum of the American Indian & Mitsitam Café
DESCRIPTION:Join HCW at the NMAI to explore the history, art, culture and stories of the Native nations of America. Then, head to the acclaimed Mitsitam cafe to discover the Native foodways of five regions.
BEGIN:VALARM
TRIGGER:-PT15M
ACTION:DISPLAY
END:VALARM
TRANSP:OPAQUE
END:VEVENT
END:VCALENDAR
