BEGIN:VCALENDAR
VERSION:2.0
PRODID:-//OmniMagnetCalendar//EN
BEGIN:VEVENT
DTSTAMP:20190625T195740Z
STATUS:CONFIRMED
UID:hcdc.clubs.harvard.edu2393
DTSTART:20221119T163000Z
DTEND:20221119T210000Z
LOCATION:Penn Social, 801 E St NW, Washington, DC, 20004,
SUMMARY:IN PERSON: Washington, DC - The Game: Harvard-Yale Watch Party
DESCRIPTION:Join HCW to watch the Crimson take on the Bulldogs for the season's final football game
BEGIN:VALARM
TRIGGER:-PT15M
ACTION:DISPLAY
END:VALARM
TRANSP:OPAQUE
END:VEVENT
END:VCALENDAR
