BEGIN:VCALENDAR
VERSION:2.0
PRODID:-//OmniMagnetCalendar//EN
BEGIN:VEVENT
DTSTAMP:20190625T195740Z
STATUS:CONFIRMED
UID:hcdc.clubs.harvard.edu2391
DTSTART:20221103T040000Z
DTEND:20221107T045500Z
LOCATION:Your Neighborhood,
SUMMARY:VIRTUAL: Harvard Moves: 5K Your Way
DESCRIPTION:Join the Harvard Alumni Association to complete a 5K...any way that works for you!
BEGIN:VALARM
TRIGGER:-PT15M
ACTION:DISPLAY
END:VALARM
TRANSP:OPAQUE
END:VEVENT
END:VCALENDAR
