BEGIN:VCALENDAR
VERSION:2.0
PRODID:-//OmniMagnetCalendar//EN
BEGIN:VEVENT
DTSTAMP:20190625T195740Z
STATUS:CONFIRMED
UID:hcdc.clubs.harvard.edu2390
DTSTART:20221102T220000Z
DTEND:20221102T230000Z
LOCATION:Virtual,
SUMMARY:VIRTUAL: Author Chat with Susan Jaques - "Catherine the Great & the National Gallery"
DESCRIPTION:Join the Wharton Club of DC as they host author Susan Jaques to discuss her 2016 biography of Catherine the Great, and the surprising connection with DC's own National Gallery.
BEGIN:VALARM
TRIGGER:-PT15M
ACTION:DISPLAY
END:VALARM
TRANSP:OPAQUE
END:VEVENT
END:VCALENDAR
