BEGIN:VCALENDAR
VERSION:2.0
PRODID:-//OmniMagnetCalendar//EN
BEGIN:VEVENT
DTSTAMP:20190625T195740Z
STATUS:CONFIRMED
UID:hcdc.clubs.harvard.edu2389
DTSTART:20221108T153000Z
DTEND:20221108T180000Z
LOCATION:Pentagon, Arlington, VA,
SUMMARY:SOLD OUT: IN PERSON: Members Only Pentagon Tour
DESCRIPTION:Join Marine Corporal David Ulicki for a very special Election Day tour of the Pentagon
BEGIN:VALARM
TRIGGER:-PT15M
ACTION:DISPLAY
END:VALARM
TRANSP:OPAQUE
END:VEVENT
END:VCALENDAR
