BEGIN:VCALENDAR
VERSION:2.0
PRODID:-//OmniMagnetCalendar//EN
BEGIN:VEVENT
DTSTAMP:20190625T195740Z
STATUS:CONFIRMED
UID:hcdc.clubs.harvard.edu2388
DTSTART:20221109T233000Z
DTEND:20221110T010000Z
LOCATION:Virtual,
SUMMARY:VIRTUAL: The Columbia Club Presents Artificial Intelligence at Patient's Service
DESCRIPTION:Join the Columbia Club of DC as three experts discuss the ramifications of AI use in healthcare data analysis, and the future of AI in the healthcare industry.
BEGIN:VALARM
TRIGGER:-PT15M
ACTION:DISPLAY
END:VALARM
TRANSP:OPAQUE
END:VEVENT
END:VCALENDAR
