BEGIN:VCALENDAR
VERSION:2.0
PRODID:-//OmniMagnetCalendar//EN
BEGIN:VEVENT
DTSTAMP:20190625T195740Z
STATUS:CONFIRMED
UID:hcdc.clubs.harvard.edu2384
DTSTART:20221205T213000Z
DTEND:20221205T223000Z
LOCATION:Virtual,
SUMMARY:VIRTUAL: Afterlife: Ancient Chinese Jades Tour at the Freer Gallery
DESCRIPTION:Join the Harvard Club for a docent-guided view of the Freer's collection of prehistoric Chinese burial objects.
BEGIN:VALARM
TRIGGER:-PT15M
ACTION:DISPLAY
END:VALARM
TRANSP:OPAQUE
END:VEVENT
END:VCALENDAR
