BEGIN:VCALENDAR
VERSION:2.0
PRODID:-//OmniMagnetCalendar//EN
BEGIN:VEVENT
DTSTAMP:20190625T195740Z
STATUS:CONFIRMED
UID:hcdc.clubs.harvard.edu2382
DTSTART:20221114T213000Z
DTEND:20221114T223000Z
LOCATION:Virtual,
SUMMARY:VIRTUAL: Once Upon a Roof Tour at the Freer Gallery
DESCRIPTION:Join the Harvard Club for a docent-guided view of the Freer's collection of Korean ornamental roof tiles.
BEGIN:VALARM
TRIGGER:-PT15M
ACTION:DISPLAY
END:VALARM
TRANSP:OPAQUE
END:VEVENT
END:VCALENDAR
