BEGIN:VCALENDAR
VERSION:2.0
PRODID:-//OmniMagnetCalendar//EN
BEGIN:VEVENT
DTSTAMP:20190625T195740Z
STATUS:CONFIRMED
UID:hcdc.clubs.harvard.edu2380
DTSTART:20221110T000000Z
DTEND:20221110T000000Z
LOCATION:Clubhouse DC, 1070 Wisconsin Ave NW, Washington, DC, 20007, USA,
SUMMARY:IN PERSON: LGBTQ+ Mixer
DESCRIPTION:Join us at Clubhouse DC in Georgetown to mingle, meet new friends, and plan future events to strengthen the Harvard LGBTQ+ community!
BEGIN:VALARM
TRIGGER:-PT15M
ACTION:DISPLAY
END:VALARM
TRANSP:OPAQUE
END:VEVENT
END:VCALENDAR
