BEGIN:VCALENDAR
VERSION:2.0
PRODID:-//OmniMagnetCalendar//EN
BEGIN:VEVENT
DTSTAMP:20190625T195740Z
STATUS:CONFIRMED
UID:hcdc.clubs.harvard.edu2375
DTSTART:20221002T153000Z
DTEND:20221002T183000Z
LOCATION:The Smithsonian Institute American History Museum, 1300 Constitution Ave NW, Washington, DC, 20560,
SUMMARY:SOLD OUT: IN PERSON: Celebrate Hispanic Heritage Month at ¡Presente! and Oyamel
DESCRIPTION:Explore the new exhibition at the Smithsonian's American History Museum with the Harvard Club. Then join us for brunch at José Andrés's award-winning Mexican restaurant, Oyamel.
BEGIN:VALARM
TRIGGER:-PT15M
ACTION:DISPLAY
END:VALARM
TRANSP:OPAQUE
END:VEVENT
END:VCALENDAR
