BEGIN:VCALENDAR
VERSION:2.0
PRODID:-//OmniMagnetCalendar//EN
BEGIN:VEVENT
DTSTAMP:20190625T195740Z
STATUS:CONFIRMED
UID:hcdc.clubs.harvard.edu2365
DTSTART:20220907T203000Z
DTEND:20220907T213000Z
LOCATION:
SUMMARY:VIRTUAL: Hokusai Revisited Tour
DESCRIPTION:Docent Lisa Sockett HLS '87 takes us through the Freer Gallery's collection of Hokusai paintings.
BEGIN:VALARM
TRIGGER:-PT15M
ACTION:DISPLAY
END:VALARM
TRANSP:OPAQUE
END:VEVENT
END:VCALENDAR
