BEGIN:VCALENDAR
VERSION:2.0
PRODID:-//OmniMagnetCalendar//EN
BEGIN:VEVENT
DTSTAMP:20190625T195740Z
STATUS:CONFIRMED
UID:hcdc.clubs.harvard.edu2355
DTSTART:20221205T230000Z
DTEND:20221206T000000Z
LOCATION:VIRTUAL,
SUMMARY:VIRTUAL: C-SPAN'S Howard Mortman Discusses "When Rabbis Bless Congress"
DESCRIPTION:Join HCW to learn more about the history of Jewish prayer in the Capitol.
BEGIN:VALARM
TRIGGER:-PT15M
ACTION:DISPLAY
END:VALARM
TRANSP:OPAQUE
END:VEVENT
END:VCALENDAR
