BEGIN:VCALENDAR
VERSION:2.0
PRODID:-//OmniMagnetCalendar//EN
BEGIN:VEVENT
DTSTAMP:20190625T195740Z
STATUS:CONFIRMED
UID:hcdc.clubs.harvard.edu2354
DTSTART:20221107T233000Z
DTEND:20221108T013000Z
LOCATION:ala,  1320 19th St NW, Washington, DC, 20036,
SUMMARY:SOLD OUT: IN PERSON: All Ivy Dinner at the New Michelin Rated Levantine Restaurant, ala 
DESCRIPTION:This 4-course dinner includes gratuity & one drink.
BEGIN:VALARM
TRIGGER:-PT15M
ACTION:DISPLAY
END:VALARM
TRANSP:OPAQUE
END:VEVENT
END:VCALENDAR
