BEGIN:VCALENDAR
VERSION:2.0
PRODID:-//OmniMagnetCalendar//EN
BEGIN:VEVENT
DTSTAMP:20190625T195740Z
STATUS:CONFIRMED
UID:hcdc.clubs.harvard.edu2353
DTSTART:20220929T220000Z
DTEND:20220930T000000Z
LOCATION:The Admiral, 1 Dupont Circle, Washington, DC, 20036,
SUMMARY:IN PERSON: Welcome to Your City: Washington, D.C.
DESCRIPTION:Meet your fellow alumni in Washington as Harvard celebrates its worldwide annual welcome gathering. All are welcome!
BEGIN:VALARM
TRIGGER:-PT15M
ACTION:DISPLAY
END:VALARM
TRANSP:OPAQUE
END:VEVENT
END:VCALENDAR
