BEGIN:VCALENDAR
VERSION:2.0
PRODID:-//OmniMagnetCalendar//EN
BEGIN:VEVENT
DTSTAMP:20190625T195740Z
STATUS:CONFIRMED
UID:hcdc.clubs.harvard.edu2347
DTSTART:20220910T210000Z
DTEND:
LOCATION:Camden Yards,
SUMMARY:IN PERSON: Boston Red Sox vs Baltimore Orioles 
DESCRIPTION:Join the Harvard Club of Maryland and Harvard alumni to cheer on our "home" team of the Red Sox as they take on the Orioles in Baltimore!!! 
BEGIN:VALARM
TRIGGER:-PT15M
ACTION:DISPLAY
END:VALARM
TRANSP:OPAQUE
END:VEVENT
END:VCALENDAR
