BEGIN:VCALENDAR
VERSION:2.0
PRODID:-//OmniMagnetCalendar//EN
BEGIN:VEVENT
DTSTAMP:20190625T195740Z
STATUS:CONFIRMED
UID:hcdc.clubs.harvard.edu2343
DTSTART:20220802T220000Z
DTEND:20220803T000000Z
LOCATION:Busboys & Poets, 450 K St, NW, Washington, DC, 20001, USA,
SUMMARY:IN PERSON: End of Summer Reception - Current Students & Recent Grads
DESCRIPTION:Come to Busboys & Poets to mix with current students and recent grads and find out what's happening at their summer internships and new jobs!
BEGIN:VALARM
TRIGGER:-PT15M
ACTION:DISPLAY
END:VALARM
TRANSP:OPAQUE
END:VEVENT
END:VCALENDAR
