BEGIN:VCALENDAR
VERSION:2.0
PRODID:-//OmniMagnetCalendar//EN
BEGIN:VEVENT
DTSTAMP:20190625T195740Z
STATUS:CONFIRMED
UID:hcdc.clubs.harvard.edu2340
DTSTART:20220801T203000Z
DTEND:20220801T213000Z
LOCATION:VIRTUAL,
SUMMARY:VIRTUAL: Chinese Brush Painting at the Freer Gallery
DESCRIPTION:Expert docent Dr. Yuan Liu invites Harvard Club members and their guests to explore this ancient art. 
BEGIN:VALARM
TRIGGER:-PT15M
ACTION:DISPLAY
END:VALARM
TRANSP:OPAQUE
END:VEVENT
END:VCALENDAR
