BEGIN:VCALENDAR
VERSION:2.0
PRODID:-//OmniMagnetCalendar//EN
BEGIN:VEVENT
DTSTAMP:20190625T195740Z
STATUS:CONFIRMED
UID:hcdc.clubs.harvard.edu2337
DTSTART:20220818T220000Z
DTEND:20220818T230000Z
LOCATION:VIRTUAL,
SUMMARY:VIRTUAL: Former Homicide Prosecutor Robin Peguero & His Debut Novel With Prejudice
DESCRIPTION:Join us for a book club event with author Robin Peguero AB '07, HLS '14 as he discusses the social experiment of the jury in With Prejudice.
BEGIN:VALARM
TRIGGER:-PT15M
ACTION:DISPLAY
END:VALARM
TRANSP:OPAQUE
END:VEVENT
END:VCALENDAR
