BEGIN:VCALENDAR
VERSION:2.0
PRODID:-//OmniMagnetCalendar//EN
BEGIN:VEVENT
DTSTAMP:20190625T195740Z
STATUS:CONFIRMED
UID:hcdc.clubs.harvard.edu2336
DTSTART:20220714T233000Z
DTEND:20220715T001500Z
LOCATION:VIRTUAL,
SUMMARY:VIRTUAL: Plant Yourself Healthy: Losing Weight on a Plant-Based Diet
DESCRIPTION:How a plant-based diet can improve your well-being.
BEGIN:VALARM
TRIGGER:-PT15M
ACTION:DISPLAY
END:VALARM
TRANSP:OPAQUE
END:VEVENT
END:VCALENDAR
