BEGIN:VCALENDAR
VERSION:2.0
PRODID:-//OmniMagnetCalendar//EN
BEGIN:VEVENT
DTSTAMP:20190625T195740Z
STATUS:CONFIRMED
UID:hcdc.clubs.harvard.edu2335
DTSTART:20220721T220000Z
DTEND:20220722T000000Z
LOCATION:Licht Cafe DC, 1520 U ST NW, Washington, DC, 20009 ,
SUMMARY:IN PERSON: Harvard Alumni, Students, and Interns, Join Us at a New Spot on the Local LGBTQ+ Scene
DESCRIPTION:Meet new people, see old friends, and share ideas about how we can “keep Pride going year-round” for our community. No cover, pay your own way. 
BEGIN:VALARM
TRIGGER:-PT15M
ACTION:DISPLAY
END:VALARM
TRANSP:OPAQUE
END:VEVENT
END:VCALENDAR
