BEGIN:VCALENDAR
VERSION:2.0
PRODID:-//OmniMagnetCalendar//EN
BEGIN:VEVENT
DTSTAMP:20190625T195740Z
STATUS:CONFIRMED
UID:hcdc.clubs.harvard.edu2333
DTSTART:20220928T223000Z
DTEND:20220929T003000Z
LOCATION:Hogan Lovells, 555 13th Street, NW, Washington, DC, 20004, USA,
SUMMARY:SOLD OUT: IN PERSON: Nothing Is Impossible: America's Reconciliation with Ambassador Ted Osius '84
DESCRIPTION:Ambassador Osius discusses his book over a Vietnamese/pan-Asian style dinner and drinks.
BEGIN:VALARM
TRIGGER:-PT15M
ACTION:DISPLAY
END:VALARM
TRANSP:OPAQUE
END:VEVENT
END:VCALENDAR
