BEGIN:VCALENDAR
VERSION:2.0
PRODID:-//OmniMagnetCalendar//EN
BEGIN:VEVENT
DTSTAMP:20190625T195740Z
STATUS:CONFIRMED
UID:hcdc.clubs.harvard.edu2332
DTSTART:20220920T220000Z
DTEND:20220920T230000Z
LOCATION:VIRTUAL,
SUMMARY:VIRTUAL: Gadsby's Corner - Club Member John A. Wasowicz MPA '88 Will Discuss His New Mystery Novel
DESCRIPTION:In the newest entry in the Old Town mystery series, a fictional CLUE-like murder mystery unfolds at Gadsby's Tavern Museum in Old Town Alexandria. 
BEGIN:VALARM
TRIGGER:-PT15M
ACTION:DISPLAY
END:VALARM
TRANSP:OPAQUE
END:VEVENT
END:VCALENDAR
