BEGIN:VCALENDAR
VERSION:2.0
PRODID:-//OmniMagnetCalendar//EN
BEGIN:VEVENT
DTSTAMP:20190625T195740Z
STATUS:CONFIRMED
UID:hcdc.clubs.harvard.edu2331
DTSTART:20221103T220000Z
DTEND:20221103T233000Z
LOCATION:Brasserie Liberté, 3251 Prospect Street, NW, Washington, DC, 20007, USA,
SUMMARY:IN PERSON: November Happy Hour Reception - Limited to Harvard Club Members and Their Guests 
DESCRIPTION:Connect with fellow Harvard alumni at Brasserie Liberté -- meeting old friends and making new ones. Please be prepared to provide proof of Covid vaccination in order to attend this event. 
BEGIN:VALARM
TRIGGER:-PT15M
ACTION:DISPLAY
END:VALARM
TRANSP:OPAQUE
END:VEVENT
END:VCALENDAR
