BEGIN:VCALENDAR
VERSION:2.0
PRODID:-//OmniMagnetCalendar//EN
BEGIN:VEVENT
DTSTAMP:20190625T195740Z
STATUS:CONFIRMED
UID:hcdc.clubs.harvard.edu2329
DTSTART:20220803T150000Z
DTEND:20220803T160000Z
LOCATION:1812 Museum, 1461 Rhode Island Ave NW, Washington, DC, 20005, USA,
SUMMARY:IN PERSON: Visit to the 1812 Museum with Librarian Sarah Voll
DESCRIPTION:Join us for a tour as we explore special collections at the 1812 Museum. FREE to Harvard Club members and their guests. 
BEGIN:VALARM
TRIGGER:-PT15M
ACTION:DISPLAY
END:VALARM
TRANSP:OPAQUE
END:VEVENT
END:VCALENDAR
