BEGIN:VCALENDAR
VERSION:2.0
PRODID:-//OmniMagnetCalendar//EN
BEGIN:VEVENT
DTSTAMP:20190625T195740Z
STATUS:CONFIRMED
UID:hcdc.clubs.harvard.edu2328
DTSTART:20220908T223036Z
DTEND:20220909T003000Z
LOCATION:Embassy of the Islamic Republic of Pakistan , 3517 International Court NW, Washington, DC, 20008, USA,
SUMMARY:TO BE RESCHEDULED: IN PERSON: HE Masood Khan of the Islamic Republic of Pakistan Has Invited Us
DESCRIPTION:The Embassy is particularly interested in meeting people with diplomatic, governmental, educational or business ties to Pakistan.  This event is limited to Harvard Club members, BIW Club Members, and Wharton Club Members and their guests.
BEGIN:VALARM
TRIGGER:-PT15M
ACTION:DISPLAY
END:VALARM
TRANSP:OPAQUE
END:VEVENT
END:VCALENDAR
