BEGIN:VCALENDAR
VERSION:2.0
PRODID:-//OmniMagnetCalendar//EN
BEGIN:VEVENT
DTSTAMP:20190625T195740Z
STATUS:CONFIRMED
UID:hcdc.clubs.harvard.edu2325
DTSTART:20221006T223000Z
DTEND:20221007T000000Z
LOCATION:The University Club of Washington, DC, 1135 16th Street, NW, Washington, DC, 20036, USA,
SUMMARY:IN PERSON: October Happy Hour at The University Club of Washington, DC
DESCRIPTION:All Harvard Club Membersand their guests are cordially invited to this special reception in the Library of The University Club of Washington, DC. 
BEGIN:VALARM
TRIGGER:-PT15M
ACTION:DISPLAY
END:VALARM
TRANSP:OPAQUE
END:VEVENT
END:VCALENDAR
