BEGIN:VCALENDAR
VERSION:2.0
PRODID:-//OmniMagnetCalendar//EN
BEGIN:VEVENT
DTSTAMP:20190625T195740Z
STATUS:CONFIRMED
UID:hcdc.clubs.harvard.edu2322
DTSTART:20220921T223000Z
DTEND:20220922T000000Z
LOCATION:VIRTUAL,
SUMMARY:VIRTUAL: Revolutionary Mothers: Women in the Struggle for America's Independence
DESCRIPTION:Join us along with the Columbia Club and the National Women's History Museum for a conversation with Carol Berkin GSAS '72, Presidential Professor of History, Emerita, Baruch College & The Graduate Center, CUNY.
BEGIN:VALARM
TRIGGER:-PT15M
ACTION:DISPLAY
END:VALARM
TRANSP:OPAQUE
END:VEVENT
END:VCALENDAR
