BEGIN:VCALENDAR
VERSION:2.0
PRODID:-//OmniMagnetCalendar//EN
BEGIN:VEVENT
DTSTAMP:20190625T195740Z
STATUS:CONFIRMED
UID:hcdc.clubs.harvard.edu2320
DTSTART:20220714T120000Z
DTEND:20220715T000000Z
LOCATION:Sterne Kessler Goldstein & Fox, 1100 New York Ave., N.W, Suite 600, Washington , DC,  20005,
SUMMARY:IN PERSON: 8th Annual Wharton DC Innovation Summit: The 2020s & Beyond: Create & Own Your Future
DESCRIPTION:The Wharton Club of DC welcomes you to join them in celebrating their 8th annual innovation summit. 
BEGIN:VALARM
TRIGGER:-PT15M
ACTION:DISPLAY
END:VALARM
TRANSP:OPAQUE
END:VEVENT
END:VCALENDAR
