BEGIN:VCALENDAR
VERSION:2.0
PRODID:-//OmniMagnetCalendar//EN
BEGIN:VEVENT
DTSTAMP:20190625T195740Z
STATUS:CONFIRMED
UID:hcdc.clubs.harvard.edu2319
DTSTART:20220721T220000Z
DTEND:20220721T230000Z
LOCATION:VIRTUAL,
SUMMARY:VIRTUAL: How Do We Better Diversify DC Law Firms?
DESCRIPTION:A conversation with Al Harrison ('96) and George Flowers (HLS '01) on what they have learned examining law firms to design a continuing legal education training for the New York City Bar Association.
BEGIN:VALARM
TRIGGER:-PT15M
ACTION:DISPLAY
END:VALARM
TRANSP:OPAQUE
END:VEVENT
END:VCALENDAR
