BEGIN:VCALENDAR
VERSION:2.0
PRODID:-//OmniMagnetCalendar//EN
BEGIN:VEVENT
DTSTAMP:20190625T195740Z
STATUS:CONFIRMED
UID:hcdc.clubs.harvard.edu2318
DTSTART:20220716T140000Z
DTEND:20220716T160000Z
LOCATION:The Franciscan Monastery, 1400 Quincy Street, NE, , Washington, DC, 20017, USA,
SUMMARY:IN PERSON: Docent-led Tour of the Gardens of the Franciscan Monastery
DESCRIPTION:Docent Lynnette Asselin, a recent HKS student will led the tour. Children of all ages are welcome to attend. FREE but limited to Harvard Club Members and their guests.
BEGIN:VALARM
TRIGGER:-PT15M
ACTION:DISPLAY
END:VALARM
TRANSP:OPAQUE
END:VEVENT
END:VCALENDAR
