BEGIN:VCALENDAR
VERSION:2.0
PRODID:-//OmniMagnetCalendar//EN
BEGIN:VEVENT
DTSTAMP:20190625T195740Z
STATUS:CONFIRMED
UID:hcdc.clubs.harvard.edu2317
DTSTART:20220713T223000Z
DTEND:20220714T003000Z
LOCATION:Joselito Casa de Comidas, 660 Pennsylvania Ave SE , Washington, DC, 20003, USA,
SUMMARY:SOLD OUT: IN PERSON: Dine at Joselito Casa de Comidas with the Harvard Club
DESCRIPTION:Celebrate the Running of the Bulls (San Fermin) without having to travel to Pamplona, running or witnessing gore of any sort. Limited to Harvard Club Members. Please be prepared to provide proof of Covid vaccination in order to attend this event.
BEGIN:VALARM
TRIGGER:-PT15M
ACTION:DISPLAY
END:VALARM
TRANSP:OPAQUE
END:VEVENT
END:VCALENDAR
