BEGIN:VCALENDAR
VERSION:2.0
PRODID:-//OmniMagnetCalendar//EN
BEGIN:VEVENT
DTSTAMP:20190625T195740Z
STATUS:CONFIRMED
UID:hcdc.clubs.harvard.edu2316
DTSTART:20220727T220000Z
DTEND:20220727T230000Z
LOCATION:VIRTUAL,
SUMMARY:VIRTUAL: Art and Power in the Digital Age
DESCRIPTION:Author Farah Nayeri discusses recent changes in the art and museum world: how previous ideas and assumptions have come to an end.
BEGIN:VALARM
TRIGGER:-PT15M
ACTION:DISPLAY
END:VALARM
TRANSP:OPAQUE
END:VEVENT
END:VCALENDAR
