BEGIN:VCALENDAR
VERSION:2.0
PRODID:-//OmniMagnetCalendar//EN
BEGIN:VEVENT
DTSTAMP:20190625T195740Z
STATUS:CONFIRMED
UID:hcdc.clubs.harvard.edu2314
DTSTART:20220705T203000Z
DTEND:20220705T213000Z
LOCATION:VIRTUAL,
SUMMARY:VIRTUAL: Docent-led Tour of Art Along the Silk Road at the Freer Gallery
DESCRIPTION:This tour is limited to Harvard Club members and their guests. All attendees must register in advance.
BEGIN:VALARM
TRIGGER:-PT15M
ACTION:DISPLAY
END:VALARM
TRANSP:OPAQUE
END:VEVENT
END:VCALENDAR
