BEGIN:VCALENDAR
VERSION:2.0
PRODID:-//OmniMagnetCalendar//EN
BEGIN:VEVENT
DTSTAMP:20190625T195740Z
STATUS:CONFIRMED
UID:hcdc.clubs.harvard.edu2311
DTSTART:20220607T230000Z
DTEND:20220608T003000Z
LOCATION:VIRTUAL,
SUMMARY:VIRTUAL: Fireside Chat with Best Selling Author Sherry Turkle AB '69, AM '73, Ph.D. '76
DESCRIPTION:Join the MIT Club of Washington DC and Harvard alum Sherry Turkle to discuss emotional and social effects of digital technology.
BEGIN:VALARM
TRIGGER:-PT15M
ACTION:DISPLAY
END:VALARM
TRANSP:OPAQUE
END:VEVENT
END:VCALENDAR
