BEGIN:VCALENDAR
VERSION:2.0
PRODID:-//OmniMagnetCalendar//EN
BEGIN:VEVENT
DTSTAMP:20190625T195740Z
STATUS:CONFIRMED
UID:hcdc.clubs.harvard.edu2308
DTSTART:20220806T130000Z
DTEND:20220806T163000Z
LOCATION:Intersection of Bell Haven Road and George Washington Memorial Parkway,
SUMMARY:IN PERSON: August Fitness Hike: Take Me to the River
DESCRIPTION:This 6-mile hike will be led by master hiker, noted guidebook author and Harvard Club member Barbara Saffir. Limited to Harvard Club members and their guests.
BEGIN:VALARM
TRIGGER:-PT15M
ACTION:DISPLAY
END:VALARM
TRANSP:OPAQUE
END:VEVENT
END:VCALENDAR
